BEGIN:VCALENDAR
VERSION:2.0
PRODID:-//Athenæum - ECPv6.15.20//NONSGML v1.0//EN
CALSCALE:GREGORIAN
METHOD:PUBLISH
X-WR-CALNAME:Athenæum
X-ORIGINAL-URL:https://theath.co.uk
X-WR-CALDESC:Events for Athenæum
REFRESH-INTERVAL;VALUE=DURATION:PT1H
X-Robots-Tag:noindex
X-PUBLISHED-TTL:PT1H
BEGIN:VTIMEZONE
TZID:Europe/London
BEGIN:DAYLIGHT
TZOFFSETFROM:+0000
TZOFFSETTO:+0100
TZNAME:BST
DTSTART:20250330T010000
END:DAYLIGHT
BEGIN:STANDARD
TZOFFSETFROM:+0100
TZOFFSETTO:+0000
TZNAME:GMT
DTSTART:20251026T010000
END:STANDARD
BEGIN:DAYLIGHT
TZOFFSETFROM:+0000
TZOFFSETTO:+0100
TZNAME:BST
DTSTART:20260329T010000
END:DAYLIGHT
BEGIN:STANDARD
TZOFFSETFROM:+0100
TZOFFSETTO:+0000
TZNAME:GMT
DTSTART:20261025T010000
END:STANDARD
BEGIN:DAYLIGHT
TZOFFSETFROM:+0000
TZOFFSETTO:+0100
TZNAME:BST
DTSTART:20270328T010000
END:DAYLIGHT
BEGIN:STANDARD
TZOFFSETFROM:+0100
TZOFFSETTO:+0000
TZNAME:GMT
DTSTART:20271031T010000
END:STANDARD
END:VTIMEZONE
BEGIN:VEVENT
DTSTART;TZID=Europe/London:20260424T100000
DTEND;TZID=Europe/London:20260424T120000
DTSTAMP:20260424T210119
CREATED:20260113T121114Z
LAST-MODIFIED:20260113T121114Z
UID:10000918-1777024800-1777032000@theath.co.uk
SUMMARY:The Chat Café - Grief Support Group
DESCRIPTION:Grief is a natural part of life – a process to help us adjust to change in our life.Come to the ‘By Your Side’ chat café. No need to book\, just come along if you feel a chat with one of our volunteers might help you.\n\nThe Grief Support group meets every 2nd and 4th Friday of the month between 10:00 and 12:00 pm.\nTo find out more information about The Chat Café visit the website: https://opendoorwarminster.org/\n\n\nThe Chat Café is an initiative by Open Door Warminster.\nCharity No.: 1207590.
URL:https://theath.co.uk/events/the-chat-cafe-grief-support-group/2026-04-24/
CATEGORIES:Community
ATTACH;FMTTYPE=image/png:https://theath.co.uk/wp-content/uploads/2024/06/3.png
END:VEVENT
END:VCALENDAR