BEGIN:VCALENDAR
VERSION:2.0
PRODID:-//Athenæum - ECPv6.15.20//NONSGML v1.0//EN
CALSCALE:GREGORIAN
METHOD:PUBLISH
X-WR-CALNAME:Athenæum
X-ORIGINAL-URL:https://theath.co.uk
X-WR-CALDESC:Events for Athenæum
REFRESH-INTERVAL;VALUE=DURATION:PT1H
X-Robots-Tag:noindex
X-PUBLISHED-TTL:PT1H
BEGIN:VTIMEZONE
TZID:Europe/London
BEGIN:DAYLIGHT
TZOFFSETFROM:+0000
TZOFFSETTO:+0100
TZNAME:BST
DTSTART:20300331T010000
END:DAYLIGHT
BEGIN:STANDARD
TZOFFSETFROM:+0100
TZOFFSETTO:+0000
TZNAME:GMT
DTSTART:20301027T010000
END:STANDARD
BEGIN:DAYLIGHT
TZOFFSETFROM:+0000
TZOFFSETTO:+0100
TZNAME:BST
DTSTART:20310330T010000
END:DAYLIGHT
BEGIN:STANDARD
TZOFFSETFROM:+0100
TZOFFSETTO:+0000
TZNAME:GMT
DTSTART:20311026T010000
END:STANDARD
BEGIN:DAYLIGHT
TZOFFSETFROM:+0000
TZOFFSETTO:+0100
TZNAME:BST
DTSTART:20320328T010000
END:DAYLIGHT
BEGIN:STANDARD
TZOFFSETFROM:+0100
TZOFFSETTO:+0000
TZNAME:GMT
DTSTART:20321031T010000
END:STANDARD
END:VTIMEZONE
BEGIN:VEVENT
DTSTART;TZID=Europe/London:20310324T190000
DTEND;TZID=Europe/London:20310324T203000
DTSTAMP:20260419T215258
CREATED:20260203T110711Z
LAST-MODIFIED:20260203T110711Z
UID:10001083-1932145200-1932150600@theath.co.uk
SUMMARY:The Chat Café - Prostate Cancer Support Group
DESCRIPTION:This group\, is specifically for people whose lives are affected by prostate cancer. No need to book\, just come along.\n\n\nThe Prostate Cancer Support group meets every 2nd and 4th Monday evening between 7pm and 8.30pm\n\n\n\nTo find out more information about The Chat Café visit the website: https://opendoorwarminster.org/\n\nThe Chat Café is an initiative by Open Door Warminster.\nCharity No.: 1207590.
URL:https://theath.co.uk/events/the-chat-cafe-prostate-cancer-support-group-3/2031-03-24/
CATEGORIES:Community
ATTACH;FMTTYPE=image/png:https://theath.co.uk/wp-content/uploads/2024/06/the-Ath-event-header-chat-cafe-Groups.png
END:VEVENT
END:VCALENDAR