BEGIN:VCALENDAR
VERSION:2.0
PRODID:-//Athenæum - ECPv6.15.20//NONSGML v1.0//EN
CALSCALE:GREGORIAN
METHOD:PUBLISH
X-ORIGINAL-URL:https://theath.co.uk
X-WR-CALDESC:Events for Athenæum
REFRESH-INTERVAL;VALUE=DURATION:PT1H
X-Robots-Tag:noindex
X-PUBLISHED-TTL:PT1H
BEGIN:VTIMEZONE
TZID:Europe/London
BEGIN:DAYLIGHT
TZOFFSETFROM:+0000
TZOFFSETTO:+0100
TZNAME:BST
DTSTART:20250330T010000
END:DAYLIGHT
BEGIN:STANDARD
TZOFFSETFROM:+0100
TZOFFSETTO:+0000
TZNAME:GMT
DTSTART:20251026T010000
END:STANDARD
BEGIN:DAYLIGHT
TZOFFSETFROM:+0000
TZOFFSETTO:+0100
TZNAME:BST
DTSTART:20260329T010000
END:DAYLIGHT
BEGIN:STANDARD
TZOFFSETFROM:+0100
TZOFFSETTO:+0000
TZNAME:GMT
DTSTART:20261025T010000
END:STANDARD
BEGIN:DAYLIGHT
TZOFFSETFROM:+0000
TZOFFSETTO:+0100
TZNAME:BST
DTSTART:20270328T010000
END:DAYLIGHT
BEGIN:STANDARD
TZOFFSETFROM:+0100
TZOFFSETTO:+0000
TZNAME:GMT
DTSTART:20271031T010000
END:STANDARD
END:VTIMEZONE
BEGIN:VEVENT
DTSTART;TZID=Europe/London:20260716T193000
DTEND;TZID=Europe/London:20260716T220000
DTSTAMP:20260425T154207
CREATED:20260424T084319Z
LAST-MODIFIED:20260424T090330Z
UID:10001097-1784230200-1784239200@theath.co.uk
SUMMARY:Blackadder Goes Forth
DESCRIPTION:Blackadder Goes Forth is a brilliant blend of biting satire and poignant storytelling\, following Captain Blackadder and his companions as they navigate the absurdities and horrors of life on the Western Front—where laughter and loss sit side by side. \nALPs has brought some beautiful productions to Warminster from Comedy to Drama – with the latest ‘The Girl on The Train’ having sell out Audiences.\nThis production of ‘BlackAdder goes Forth’ commemorates the 110th anniversary of the Battle of the Somme.  It is a dark historical comedy set in the trenches of World War I\, blending sharp satire\, absurd humour\, and a deeply poignant ending. \n  \nPurchase your ticket by clicking on the Ticket Source logo below. \n \nTickets £14 \n Concessions £13 \n 
URL:https://theath.co.uk/events/blackadder-goes-forth/2026-07-16/
CATEGORIES:Show
ATTACH;FMTTYPE=image/png:https://theath.co.uk/wp-content/uploads/2026/04/blckadder_placeholder.png
END:VEVENT
BEGIN:VEVENT
DTSTART;TZID=Europe/London:20260717T193000
DTEND;TZID=Europe/London:20260717T220000
DTSTAMP:20260425T154207
CREATED:20260424T084319Z
LAST-MODIFIED:20260424T090330Z
UID:10001098-1784316600-1784325600@theath.co.uk
SUMMARY:Blackadder Goes Forth
DESCRIPTION:Blackadder Goes Forth is a brilliant blend of biting satire and poignant storytelling\, following Captain Blackadder and his companions as they navigate the absurdities and horrors of life on the Western Front—where laughter and loss sit side by side. \nALPs has brought some beautiful productions to Warminster from Comedy to Drama – with the latest ‘The Girl on The Train’ having sell out Audiences.\nThis production of ‘BlackAdder goes Forth’ commemorates the 110th anniversary of the Battle of the Somme.  It is a dark historical comedy set in the trenches of World War I\, blending sharp satire\, absurd humour\, and a deeply poignant ending. \n  \nPurchase your ticket by clicking on the Ticket Source logo below. \n \nTickets £14 \n Concessions £13 \n 
URL:https://theath.co.uk/events/blackadder-goes-forth/2026-07-17/
CATEGORIES:Show
ATTACH;FMTTYPE=image/png:https://theath.co.uk/wp-content/uploads/2026/04/blckadder_placeholder.png
END:VEVENT
BEGIN:VEVENT
DTSTART;TZID=Europe/London:20260718T193000
DTEND;TZID=Europe/London:20260718T220000
DTSTAMP:20260425T154207
CREATED:20260424T084319Z
LAST-MODIFIED:20260424T090330Z
UID:10001099-1784403000-1784412000@theath.co.uk
SUMMARY:Blackadder Goes Forth
DESCRIPTION:Blackadder Goes Forth is a brilliant blend of biting satire and poignant storytelling\, following Captain Blackadder and his companions as they navigate the absurdities and horrors of life on the Western Front—where laughter and loss sit side by side. \nALPs has brought some beautiful productions to Warminster from Comedy to Drama – with the latest ‘The Girl on The Train’ having sell out Audiences.\nThis production of ‘BlackAdder goes Forth’ commemorates the 110th anniversary of the Battle of the Somme.  It is a dark historical comedy set in the trenches of World War I\, blending sharp satire\, absurd humour\, and a deeply poignant ending. \n  \nPurchase your ticket by clicking on the Ticket Source logo below. \n \nTickets £14 \n Concessions £13 \n 
URL:https://theath.co.uk/events/blackadder-goes-forth/2026-07-18/
CATEGORIES:Show
ATTACH;FMTTYPE=image/png:https://theath.co.uk/wp-content/uploads/2026/04/blckadder_placeholder.png
END:VEVENT
BEGIN:VEVENT
DTSTART;TZID=Europe/London:20261126T193000
DTEND;TZID=Europe/London:20261126T220000
DTSTAMP:20260425T154207
CREATED:20260424T085607Z
LAST-MODIFIED:20260424T085607Z
UID:10001101-1795721400-1795730400@theath.co.uk
SUMMARY:Flint Street Nativity
DESCRIPTION:This warm\, witty\, funny play by Tim Firth is an ideal alternative to the usual Christmas fare. \nMiss Horrocks’ class of seven year olds is about to perform their nativity play at Flint Street Junior School for the proud mums and dads – and the occasional social worker. \n“Very very funny\, but also full of some quite poignant  moments\, this is a play I would very much like to see again\, there was so much in it. \nShow dates: \nThursday 26 November 7.30PM \nFriday 27 November 7.30PM \nSaturday 28 November 2PM and 7.30PM \n  \nPurchase your ticket by clicking on the Ticket Source logo below. \n \nTickets £14 \n Concessions £13 \n 
URL:https://theath.co.uk/events/flint-street-nativity/2026-11-26/
CATEGORIES:Music,Show
ATTACH;FMTTYPE=image/png:https://theath.co.uk/wp-content/uploads/2026/04/Flintstreet-Nativity-placeholder-web-banner.png
END:VEVENT
BEGIN:VEVENT
DTSTART;TZID=Europe/London:20261127T193000
DTEND;TZID=Europe/London:20261127T220000
DTSTAMP:20260425T154207
CREATED:20260424T085607Z
LAST-MODIFIED:20260424T085607Z
UID:10001102-1795807800-1795816800@theath.co.uk
SUMMARY:Flint Street Nativity
DESCRIPTION:This warm\, witty\, funny play by Tim Firth is an ideal alternative to the usual Christmas fare. \nMiss Horrocks’ class of seven year olds is about to perform their nativity play at Flint Street Junior School for the proud mums and dads – and the occasional social worker. \n“Very very funny\, but also full of some quite poignant  moments\, this is a play I would very much like to see again\, there was so much in it. \nShow dates: \nThursday 26 November 7.30PM \nFriday 27 November 7.30PM \nSaturday 28 November 2PM and 7.30PM \n  \nPurchase your ticket by clicking on the Ticket Source logo below. \n \nTickets £14 \n Concessions £13 \n 
URL:https://theath.co.uk/events/flint-street-nativity/2026-11-27/
CATEGORIES:Music,Show
ATTACH;FMTTYPE=image/png:https://theath.co.uk/wp-content/uploads/2026/04/Flintstreet-Nativity-placeholder-web-banner.png
END:VEVENT
BEGIN:VEVENT
DTSTART;TZID=Europe/London:20261128T140000
DTEND;TZID=Europe/London:20261128T170000
DTSTAMP:20260425T154207
CREATED:20260424T090056Z
LAST-MODIFIED:20260424T090056Z
UID:10001107-1795874400-1795885200@theath.co.uk
SUMMARY:Flint Street Nativity - Matinee
DESCRIPTION:This warm\, witty\, funny play by Tim Firth is an ideal alternative to the usual Christmas fare. \nMiss Horrocks’ class of seven year olds is about to perform their nativity play at Flint Street Junior School for the proud mums and dads – and the occasional social worker. \n“Very very funny\, but also full of some quite poignant  moments\, this is a play I would very much like to see again\, there was so much in it. \nShow dates: \nThursday 26 November 7.30PM \nFriday 27 November 7.30PM \nSaturday 28 November 2PM and 7.30PM \n  \nPurchase your ticket by clicking on the Ticket Source logo below. \n \nTickets £14 \n Concessions £13 \n 
URL:https://theath.co.uk/events/flint-street-nativity-matinee/
CATEGORIES:Show
ATTACH;FMTTYPE=image/png:https://theath.co.uk/wp-content/uploads/2026/04/Flintstreet-Nativity-placeholder-web-banner.png
END:VEVENT
BEGIN:VEVENT
DTSTART;TZID=Europe/London:20261128T193000
DTEND;TZID=Europe/London:20261128T220000
DTSTAMP:20260425T154207
CREATED:20260424T085607Z
LAST-MODIFIED:20260424T085607Z
UID:10001103-1795894200-1795903200@theath.co.uk
SUMMARY:Flint Street Nativity
DESCRIPTION:This warm\, witty\, funny play by Tim Firth is an ideal alternative to the usual Christmas fare. \nMiss Horrocks’ class of seven year olds is about to perform their nativity play at Flint Street Junior School for the proud mums and dads – and the occasional social worker. \n“Very very funny\, but also full of some quite poignant  moments\, this is a play I would very much like to see again\, there was so much in it. \nShow dates: \nThursday 26 November 7.30PM \nFriday 27 November 7.30PM \nSaturday 28 November 2PM and 7.30PM \n  \nPurchase your ticket by clicking on the Ticket Source logo below. \n \nTickets £14 \n Concessions £13 \n 
URL:https://theath.co.uk/events/flint-street-nativity/2026-11-28/
CATEGORIES:Music,Show
ATTACH;FMTTYPE=image/png:https://theath.co.uk/wp-content/uploads/2026/04/Flintstreet-Nativity-placeholder-web-banner.png
END:VEVENT
END:VCALENDAR