BEGIN:VCALENDAR
VERSION:2.0
PRODID:-//Athenæum - ECPv6.15.20//NONSGML v1.0//EN
CALSCALE:GREGORIAN
METHOD:PUBLISH
X-ORIGINAL-URL:https://theath.co.uk
X-WR-CALDESC:Events for Athenæum
REFRESH-INTERVAL;VALUE=DURATION:PT1H
X-Robots-Tag:noindex
X-PUBLISHED-TTL:PT1H
BEGIN:VTIMEZONE
TZID:Europe/London
BEGIN:DAYLIGHT
TZOFFSETFROM:+0000
TZOFFSETTO:+0100
TZNAME:BST
DTSTART:20250330T010000
END:DAYLIGHT
BEGIN:STANDARD
TZOFFSETFROM:+0100
TZOFFSETTO:+0000
TZNAME:GMT
DTSTART:20251026T010000
END:STANDARD
BEGIN:DAYLIGHT
TZOFFSETFROM:+0000
TZOFFSETTO:+0100
TZNAME:BST
DTSTART:20260329T010000
END:DAYLIGHT
BEGIN:STANDARD
TZOFFSETFROM:+0100
TZOFFSETTO:+0000
TZNAME:GMT
DTSTART:20261025T010000
END:STANDARD
BEGIN:DAYLIGHT
TZOFFSETFROM:+0000
TZOFFSETTO:+0100
TZNAME:BST
DTSTART:20270328T010000
END:DAYLIGHT
BEGIN:STANDARD
TZOFFSETFROM:+0100
TZOFFSETTO:+0000
TZNAME:GMT
DTSTART:20271031T010000
END:STANDARD
END:VTIMEZONE
BEGIN:VEVENT
DTSTART;TZID=Europe/London:20260805T193000
DTEND;TZID=Europe/London:20260805T211500
DTSTAMP:20260421T182346
CREATED:20260127T092807Z
LAST-MODIFIED:20260127T092807Z
UID:10000941-1785958200-1785964500@theath.co.uk
SUMMARY:I swear
DESCRIPTION:Based on a true story\, the moving\, uplifting account of the life of John Davidson\, a Tourette’s syndrome campaigner who grew up with the condition in 1980s Scotland\, at a time when it was little known and misunderstood. A frank\, funny and touching story about the transformative power of friendship and community. \n  \n2 hours                     Cert. 15          (UK – 2025)     Contains strong language \n  \nWant to join the Warminster & District Film Society – ask for a leaflet in the Foyer \nhttps://www.facebook.com/WarminsterAndDistrictFilmSociety  \n Adult Tickets: £6 \nWDFS Members: FREE \nPurchase your ticket by clicking on the Ticket Source logo below. \n \n  \nPlease note; A limited number of guest tickets for films are available in advance online or from the box office. If the advance tickets sell out\, more tickets may be available at the door on the day.
URL:https://theath.co.uk/events/i-swear/
CATEGORIES:Film
ATTACH;FMTTYPE=image/jpeg:https://theath.co.uk/wp-content/uploads/2026/01/I-Swear-Web.jpg
END:VEVENT
BEGIN:VEVENT
DTSTART;TZID=Europe/London:20260816T193000
DTEND;TZID=Europe/London:20260816T213000
DTSTAMP:20260421T182346
CREATED:20260310T113553Z
LAST-MODIFIED:20260318T095951Z
UID:10001079-1786908600-1786915800@theath.co.uk
SUMMARY:The Warminster Comedy Club (18+)
DESCRIPTION:Warminster Comedy Club returns to the Athenæum this August with another fantastic night of live stand-up\, headlined by the brilliant Dominic Holland. \nDominic Holland is one of the UK’s most respected comedians and writers\, known for his intelligent\, self-deprecating humour and wonderfully sharp storytelling. Over the years he has appeared on numerous TV and radio programmes including Have I Got News For You\, The Royal Variety Performance\, and The Brian Conley Show\, and has also enjoyed a long-running career on BBC Radio 4. As well as his stand-up\, Dominic is a successful author and newspaper columnist\, with his witty and insightful style making him a firm favourite with comedy audiences. \nJoining him on the bill is the excellent Justin Panks\, a fast-rising comedian known for his confident stage presence and punchy\, relatable material. With a warm delivery and a knack for finding big laughs in everyday situations\, Justin is quickly becoming a name to watch on the UK comedy circuit. \nThis is a mixed-bill comedy night\, giving you the full comedy club experience with multiple comedians and a host guiding the evening. The MC for the show will be announced soon\, adding another exciting element to the lineup. \nExpect a relaxed atmosphere\, big laughs\, and a brilliant night of live stand-up in one of Warminster’s most beautiful venues. \nLineup subject to change. \n________________________ \n\n\n\nThese are aged 18+ shows.\n\nPurchase your ticket by clicking on the Ticket Source logo below. \n \nTickets £20 \n  \n 
URL:https://theath.co.uk/events/the-warminster-comedy-club-18-2/
CATEGORIES:Show
ATTACH;FMTTYPE=image/jpeg:https://theath.co.uk/wp-content/uploads/2026/03/WARMINSTER_PROMO_2026_08_FILES_03.jpg
END:VEVENT
BEGIN:VEVENT
DTSTART;VALUE=DATE:20260819
DTEND;VALUE=DATE:20260820
DTSTAMP:20260421T182346
CREATED:20260225T112414Z
LAST-MODIFIED:20260225T112414Z
UID:10001072-1787097600-1787183999@theath.co.uk
SUMMARY:Imperial Charity Coach Trip - Sidmouth
DESCRIPTION:Imperial Charity Coach Trip to Sidmouth!\n\n\nEvent Details\nStarts at 9:00AM \n\n\n\nThis year the tickets will stay on sale up until the date of trip/sell-out. The tickets are priced at £15 each\, but people with special educational needs will be entitled to a free ticket for themselves and one carer (they cannot travel alone). A total of 49 tickets are available for each trip. \nPlease note that the coach pick up points need to be recorded when the ticket is sold\, and are as follows: \n\nCentral Car Park depart 09:00\nRegal Court depart 09:05\nChrist Church depart 09:10\nBell Hill depart 09:15\n\n  \n\n\nTickets: £15 \nPurchase your ticket by clicking on the Ticket Source logo below. \n \n  \nMore info:
URL:https://theath.co.uk/events/imperial-charity-coach-trip-sidmouth/
CATEGORIES:Community,Trip
ATTACH;FMTTYPE=image/png:https://theath.co.uk/wp-content/uploads/2026/02/2.png
END:VEVENT
END:VCALENDAR