BEGIN:VCALENDAR
VERSION:2.0
PRODID:-//Athenæum - ECPv6.15.20//NONSGML v1.0//EN
CALSCALE:GREGORIAN
METHOD:PUBLISH
X-WR-CALNAME:Athenæum
X-ORIGINAL-URL:https://theath.co.uk
X-WR-CALDESC:Events for Athenæum
REFRESH-INTERVAL;VALUE=DURATION:PT1H
X-Robots-Tag:noindex
X-PUBLISHED-TTL:PT1H
BEGIN:VTIMEZONE
TZID:Europe/London
BEGIN:DAYLIGHT
TZOFFSETFROM:+0000
TZOFFSETTO:+0100
TZNAME:BST
DTSTART:20250330T010000
END:DAYLIGHT
BEGIN:STANDARD
TZOFFSETFROM:+0100
TZOFFSETTO:+0000
TZNAME:GMT
DTSTART:20251026T010000
END:STANDARD
BEGIN:DAYLIGHT
TZOFFSETFROM:+0000
TZOFFSETTO:+0100
TZNAME:BST
DTSTART:20260329T010000
END:DAYLIGHT
BEGIN:STANDARD
TZOFFSETFROM:+0100
TZOFFSETTO:+0000
TZNAME:GMT
DTSTART:20261025T010000
END:STANDARD
BEGIN:DAYLIGHT
TZOFFSETFROM:+0000
TZOFFSETTO:+0100
TZNAME:BST
DTSTART:20270328T010000
END:DAYLIGHT
BEGIN:STANDARD
TZOFFSETFROM:+0100
TZOFFSETTO:+0000
TZNAME:GMT
DTSTART:20271031T010000
END:STANDARD
END:VTIMEZONE
BEGIN:VEVENT
DTSTART;TZID=Europe/London:20260422T193000
DTEND;TZID=Europe/London:20260422T211500
DTSTAMP:20260425T160321
CREATED:20260127T091635Z
LAST-MODIFIED:20260127T091635Z
UID:10000937-1776886200-1776892500@theath.co.uk
SUMMARY:Save the Cinema
DESCRIPTION:Based on the true\, moving story of Liz Evans\, a hairdresser and leader of a youth theatre in Carmarthen\, Wales who started a campaign in 1993 to save the Lyric Cinema from closure and demolition. She and a local councillor enlist the help of Steven Spielberg. \n1 hour 45 minutes                     Cert. 12A          (UK – 2025) \n  \nWant to join the Warminster & District Film Society – ask for a leaflet in the Foyer \nhttps://www.facebook.com/WarminsterAndDistrictFilmSociety  \n Adult Tickets: £6 \nWDFS Members: FREE \nPurchase your ticket by clicking on the Ticket Source logo below. \n \n  \nPlease note; A limited number of guest tickets for films are available in advance online or from the box office. If the advance tickets sell out\, more tickets may be available at the door on the day.
URL:https://theath.co.uk/events/save-the-cinema/
CATEGORIES:Film
ATTACH;FMTTYPE=image/jpeg:https://theath.co.uk/wp-content/uploads/2026/01/Save-cinema-web.jpg
END:VEVENT
BEGIN:VEVENT
DTSTART;TZID=Europe/London:20260419T193000
DTEND;TZID=Europe/London:20260419T213000
DTSTAMP:20260425T160321
CREATED:20250922T083200Z
LAST-MODIFIED:20260202T082824Z
UID:10000829-1776627000-1776634200@theath.co.uk
SUMMARY:The Warminster Comedy Club (18+)
DESCRIPTION:Warminster Comedy Club returns to the Athenæum with another huge night of live stand-up\, headlined by one of the UK’s most distinctive and respected comedians\, Simon Evans. \nKnown for his razor-sharp intelligence\, beautifully constructed routines\, and unmistakable delivery\, Simon Evans is a true comedy heavyweight. A familiar face from Live at the Apollo\, Mock the Week\, QI\, The News Quiz\, and The Wright Stuff\, Simon’s comedy is bold\, thought-provoking\, and relentlessly funny. He has a rare ability to take big ideas\, everyday frustrations\, and modern life\, and turn them into punchlines that are as clever as they are devastating. \nHosting the night is Rich Wilson\, winner of the Comics’ Comic 2025 Best MC award\, an accolade voted for by fellow comedians. Rich is widely regarded as one of the very best hosts on the UK comedy circuit\, known for his sharp crowd work\, quick reactions\, and ability to keep a room buzzing without ever overpowering the acts. Many will also know him as the host of the popular podcast Insane In The Men Brain\, as well as from his writing and regular appearances across the UK comedy scene. \nThis is a mixed-bill comedy night\, giving you the full comedy club experience from start to finish\, with a hand-picked lineup of professional comedians supporting the headline act\, all brought together by an award-winning MC. \nLineup subject to change. \n\n\n\nThese are aged 18+ shows.\n\nPurchase your ticket by clicking on the Ticket Source logo below. \n \nTickets £22.50 \n  \n 
URL:https://theath.co.uk/events/the-warminster-comedy-club-19april/
CATEGORIES:Show
ATTACH;FMTTYPE=image/jpeg:https://theath.co.uk/wp-content/uploads/2025/09/small_WARMINSTER_PROMO_2026_04_FILES_03.jpg
END:VEVENT
BEGIN:VEVENT
DTSTART;TZID=Europe/London:20260416T190000
DTEND;TZID=Europe/London:20260416T223000
DTSTAMP:20260425T160321
CREATED:20260116T095248Z
LAST-MODIFIED:20260116T095248Z
UID:10000920-1776366000-1776378600@theath.co.uk
SUMMARY:All My Sons - National Theatre Live
DESCRIPTION:All My Sons   by Arthur Miller\ndirected by Ivo Van Hove\ndesign by Jan Versweyveld \nOne family; the American dream. When wartime delivers profits for Joe\, it comes at a price when his partner is charged with criminal manufacturing deals\, and his eldest son goes missing in action. Will peacetime bring peace of mind\, or will he be confronted by the consequence of his actions? \nBryan Cranston (Breaking Bad) and Marianne Jean-Baptiste (Hard Truths) feature in a five-star\, triumphantly acclaimed new production of Arthur Miller’s classic play\, from visionary director Ivo Van Hove (A View from the Bridge). \n\nOne family\, the heart of the American dream. When wartime delivers profits for Joe\, it comes at a price when his partner is charged with criminal manufacturing deals\, and his eldest son goes missing in action. Will peacetime bring peace of mind\, or will he be confronted by the consequence of his actions?\nFilmed live from the West End\, Paapa Essiedu (I May Destroy You)\, Tom Glynn-Carney (House of the Dragon)\, and Hayley Squires (I\, Daniel Blake) also feature in this disturbingly prescient play.\n\nRunning Time – 2 hrs 45 mins\, with a 20 minute interval. Age Rating – 12A\n\n\nEvent Details\nDoors Open at 6:30PM\nStarts at 7:00PM \n\n\nPurchase your ticket by clicking on the Ticket Source logo below. \n \n  \n 
URL:https://theath.co.uk/events/all-my-sons-national-theatre-live/
CATEGORIES:Film
ATTACH;FMTTYPE=image/jpeg:https://theath.co.uk/wp-content/uploads/2026/01/NTL-2026-All-My-Sons-Listing-Image-1920x1080-1.jpeg
END:VEVENT
BEGIN:VEVENT
DTSTART;VALUE=DATE:20260415
DTEND;VALUE=DATE:20260416
DTSTAMP:20260425T160321
CREATED:20260225T111213Z
LAST-MODIFIED:20260225T111346Z
UID:10001068-1776211200-1776297599@theath.co.uk
SUMMARY:Imperial Charity Coach Trip - Gloucester Quays
DESCRIPTION:Imperial Charity Coach Trip to the shopping centre at Gloucester Quays!\n\n\nEvent Details\nStarts at 9:00AM \n\n\n\nThis year the tickets will stay on sale up until the date of trip/sell-out. The tickets are priced at £15 each\, but people with special educational needs will be entitled to a free ticket for themselves and one carer (they cannot travel alone). A total of 49 tickets are available for each trip. \nPlease note that the coach pick up points need to be recorded when the ticket is sold\, and are as follows: \n\nCentral Car Park depart 09:00\nRegal Court depart 09:05\nChrist Church depart 09:10\nBell Hill depart 09:15\n\n  \n\n\nTickets: £15 \nPurchase your ticket by clicking on the Ticket Source logo below. \n \n  \nMore info:
URL:https://theath.co.uk/events/imperial-charity-coach-trip-gloucester-quays/
CATEGORIES:Community,Trip
ATTACH;FMTTYPE=image/png:https://theath.co.uk/wp-content/uploads/2026/02/6.png
END:VEVENT
BEGIN:VEVENT
DTSTART;TZID=Europe/London:20260411T193000
DTEND;TZID=Europe/London:20260411T223000
DTSTAMP:20260425T160321
CREATED:20260115T123829Z
LAST-MODIFIED:20260116T101438Z
UID:10000925-1775935800-1775946600@theath.co.uk
SUMMARY:The Girl on the Train
DESCRIPTION:This ambitious production follows Rachel Watson into a dark world of obsession and secrets. Featuring a talented cast and immersive storytelling\, the Athenæum Limelight Players deliver a chilling\, unforgettable performance. Supporting Refuge\, this must-see event promises to captivate and unsettle. \nBased on the internationally bestselling novel by Paula Hawkins and DreamWorks film Adapted by Rachel Wagstaff and Duncan Abel\, the acclaimed stage adaptation transforms the psychological thriller into a powerful live experience. The story follows Rachel Watson\, whose daily train journeys and fixation on a seemingly perfect couple take a dark and unexpected turn\, pulling her into a dangerous world of obsession\, secrets\, and shocking revelations.\nThis ambitious production features a cast of seven highly talented and experienced amateur actors\, each tackling emotionally demanding roles that require precision\, depth\, and sustained tension. Although small in number\, the cast faces significant dramatic and technical challenges\, including rapid scene changes\, complex relationships\, and the constant drive to keep audiences on edge. \nKnown for its dark themes and intricate storytelling\, The Girl on the Train offers audiences a thrilling and immersive night at the theatre. Athenæum Limelight Players are confident their experience\, commitment\, and passion will result in a powerful and memorable production that will captivate and unsettle in equal measure. \nThis amateur production of “The Girl on the Train” is presented by arrangement with Concord Theatricals Ltd. on behalf of Samuel French Ltd. www.concordtheatricals.co.uk \nWe will be supporting the charity: Refuge: for women and children against Domestic Violence. \nShow dates: 9\, 10 and 11 April. \nStart time: 7:30pm \nTickets £14 – Purchase your ticket for any of the show dates on TicketSource below.
URL:https://theath.co.uk/events/the-girl-on-the-train/2026-04-11/
CATEGORIES:Show
ATTACH;FMTTYPE=image/jpeg:https://theath.co.uk/wp-content/uploads/2026/01/1920-x-1080-bannerTGOTT-v1.jpg
END:VEVENT
BEGIN:VEVENT
DTSTART;TZID=Europe/London:20260410T193000
DTEND;TZID=Europe/London:20260410T223000
DTSTAMP:20260425T160321
CREATED:20260115T123829Z
LAST-MODIFIED:20260116T101438Z
UID:10000924-1775849400-1775860200@theath.co.uk
SUMMARY:The Girl on the Train
DESCRIPTION:This ambitious production follows Rachel Watson into a dark world of obsession and secrets. Featuring a talented cast and immersive storytelling\, the Athenæum Limelight Players deliver a chilling\, unforgettable performance. Supporting Refuge\, this must-see event promises to captivate and unsettle. \nBased on the internationally bestselling novel by Paula Hawkins and DreamWorks film Adapted by Rachel Wagstaff and Duncan Abel\, the acclaimed stage adaptation transforms the psychological thriller into a powerful live experience. The story follows Rachel Watson\, whose daily train journeys and fixation on a seemingly perfect couple take a dark and unexpected turn\, pulling her into a dangerous world of obsession\, secrets\, and shocking revelations.\nThis ambitious production features a cast of seven highly talented and experienced amateur actors\, each tackling emotionally demanding roles that require precision\, depth\, and sustained tension. Although small in number\, the cast faces significant dramatic and technical challenges\, including rapid scene changes\, complex relationships\, and the constant drive to keep audiences on edge. \nKnown for its dark themes and intricate storytelling\, The Girl on the Train offers audiences a thrilling and immersive night at the theatre. Athenæum Limelight Players are confident their experience\, commitment\, and passion will result in a powerful and memorable production that will captivate and unsettle in equal measure. \nThis amateur production of “The Girl on the Train” is presented by arrangement with Concord Theatricals Ltd. on behalf of Samuel French Ltd. www.concordtheatricals.co.uk \nWe will be supporting the charity: Refuge: for women and children against Domestic Violence. \nShow dates: 9\, 10 and 11 April. \nStart time: 7:30pm \nTickets £14 – Purchase your ticket for any of the show dates on TicketSource below.
URL:https://theath.co.uk/events/the-girl-on-the-train/2026-04-10/
CATEGORIES:Show
ATTACH;FMTTYPE=image/jpeg:https://theath.co.uk/wp-content/uploads/2026/01/1920-x-1080-bannerTGOTT-v1.jpg
END:VEVENT
BEGIN:VEVENT
DTSTART;TZID=Europe/London:20260409T193000
DTEND;TZID=Europe/London:20260409T223000
DTSTAMP:20260425T160321
CREATED:20260115T123829Z
LAST-MODIFIED:20260116T101438Z
UID:10000848-1775763000-1775773800@theath.co.uk
SUMMARY:The Girl on the Train
DESCRIPTION:This ambitious production follows Rachel Watson into a dark world of obsession and secrets. Featuring a talented cast and immersive storytelling\, the Athenæum Limelight Players deliver a chilling\, unforgettable performance. Supporting Refuge\, this must-see event promises to captivate and unsettle. \nBased on the internationally bestselling novel by Paula Hawkins and DreamWorks film Adapted by Rachel Wagstaff and Duncan Abel\, the acclaimed stage adaptation transforms the psychological thriller into a powerful live experience. The story follows Rachel Watson\, whose daily train journeys and fixation on a seemingly perfect couple take a dark and unexpected turn\, pulling her into a dangerous world of obsession\, secrets\, and shocking revelations.\nThis ambitious production features a cast of seven highly talented and experienced amateur actors\, each tackling emotionally demanding roles that require precision\, depth\, and sustained tension. Although small in number\, the cast faces significant dramatic and technical challenges\, including rapid scene changes\, complex relationships\, and the constant drive to keep audiences on edge. \nKnown for its dark themes and intricate storytelling\, The Girl on the Train offers audiences a thrilling and immersive night at the theatre. Athenæum Limelight Players are confident their experience\, commitment\, and passion will result in a powerful and memorable production that will captivate and unsettle in equal measure. \nThis amateur production of “The Girl on the Train” is presented by arrangement with Concord Theatricals Ltd. on behalf of Samuel French Ltd. www.concordtheatricals.co.uk \nWe will be supporting the charity: Refuge: for women and children against Domestic Violence. \nShow dates: 9\, 10 and 11 April. \nStart time: 7:30pm \nTickets £14 – Purchase your ticket for any of the show dates on TicketSource below.
URL:https://theath.co.uk/events/the-girl-on-the-train/2026-04-09/
CATEGORIES:Show
ATTACH;FMTTYPE=image/jpeg:https://theath.co.uk/wp-content/uploads/2026/01/1920-x-1080-bannerTGOTT-v1.jpg
END:VEVENT
BEGIN:VEVENT
DTSTART;TZID=Europe/London:20260325T193000
DTEND;TZID=Europe/London:20260325T211500
DTSTAMP:20260425T160321
CREATED:20260127T091315Z
LAST-MODIFIED:20260127T091315Z
UID:10000936-1774467000-1774473300@theath.co.uk
SUMMARY:Lee
DESCRIPTION:War correspondent Lee Miller (Kate Winslett) travels to the front lines of World War II to embark on a mission to uncover the hidden truths of the Third Reich. But in the wake of betrayal\, a reckoning will come over the truths of her own past. \n2 hours                     Cert. PG          (UK – 2025)   \n  \nWant to join the Warminster & District Film Society – ask for a leaflet in the Foyer \nhttps://www.facebook.com/WarminsterAndDistrictFilmSociety  \n Adult Tickets: £6 \nWDFS Members: FREE \nPurchase your ticket by clicking on the Ticket Source logo below. \n \n  \nPlease note; A limited number of guest tickets for films are available in advance online or from the box office. If the advance tickets sell out\, more tickets may be available at the door on the day.
URL:https://theath.co.uk/events/lee/
CATEGORIES:Film
ATTACH;FMTTYPE=image/jpeg:https://theath.co.uk/wp-content/uploads/2026/01/Lee-web.jpg
END:VEVENT
END:VCALENDAR