BEGIN:VCALENDAR
VERSION:2.0
PRODID:-//Athenæum - ECPv6.15.20//NONSGML v1.0//EN
CALSCALE:GREGORIAN
METHOD:PUBLISH
X-WR-CALNAME:Athenæum
X-ORIGINAL-URL:https://theath.co.uk
X-WR-CALDESC:Events for Athenæum
REFRESH-INTERVAL;VALUE=DURATION:PT1H
X-Robots-Tag:noindex
X-PUBLISHED-TTL:PT1H
BEGIN:VTIMEZONE
TZID:Europe/London
BEGIN:DAYLIGHT
TZOFFSETFROM:+0000
TZOFFSETTO:+0100
TZNAME:BST
DTSTART:20250330T010000
END:DAYLIGHT
BEGIN:STANDARD
TZOFFSETFROM:+0100
TZOFFSETTO:+0000
TZNAME:GMT
DTSTART:20251026T010000
END:STANDARD
BEGIN:DAYLIGHT
TZOFFSETFROM:+0000
TZOFFSETTO:+0100
TZNAME:BST
DTSTART:20260329T010000
END:DAYLIGHT
BEGIN:STANDARD
TZOFFSETFROM:+0100
TZOFFSETTO:+0000
TZNAME:GMT
DTSTART:20261025T010000
END:STANDARD
BEGIN:DAYLIGHT
TZOFFSETFROM:+0000
TZOFFSETTO:+0100
TZNAME:BST
DTSTART:20270328T010000
END:DAYLIGHT
BEGIN:STANDARD
TZOFFSETFROM:+0100
TZOFFSETTO:+0000
TZNAME:GMT
DTSTART:20271031T010000
END:STANDARD
END:VTIMEZONE
BEGIN:VEVENT
DTSTART;VALUE=DATE:20260513
DTEND;VALUE=DATE:20260514
DTSTAMP:20260421T144412
CREATED:20260225T111653Z
LAST-MODIFIED:20260225T111708Z
UID:10001069-1778630400-1778716799@theath.co.uk
SUMMARY:Imperial Charity Coach Trip - Poole
DESCRIPTION:Imperial Charity Coach Trip to Poole!\n\n\nEvent Details\nStarts at 9:00AM \n\n\n\nThis year the tickets will stay on sale up until the date of trip/sell-out. The tickets are priced at £15 each\, but people with special educational needs will be entitled to a free ticket for themselves and one carer (they cannot travel alone). A total of 49 tickets are available for each trip. \nPlease note that the coach pick up points need to be recorded when the ticket is sold\, and are as follows: \n\nCentral Car Park depart 09:00\nRegal Court depart 09:05\nChrist Church depart 09:10\nBell Hill depart 09:15\n\n  \n\n\nTickets: £15 \nPurchase your ticket by clicking on the Ticket Source logo below. \n \n  \nMore info:
URL:https://theath.co.uk/events/imperial-charity-coach-trip-poole/
CATEGORIES:Community,Trip
ATTACH;FMTTYPE=image/png:https://theath.co.uk/wp-content/uploads/2026/02/5.png
END:VEVENT
BEGIN:VEVENT
DTSTART;TZID=Europe/London:20260513T193000
DTEND;TZID=Europe/London:20260513T211500
DTSTAMP:20260421T144412
CREATED:20260127T091920Z
LAST-MODIFIED:20260127T091920Z
UID:10000938-1778700600-1778706900@theath.co.uk
SUMMARY:Dead of Winter
DESCRIPTION:In this action-packed thriller\, a grief-stricken widow (Emma Thompson) stops by a remote cabin after getting lost on the back roads of Minnesota in the middle of winter. She soon finds herself in a desperate fight for survival as she encounters a murderous couple holding a young woman hostage. \n1 hour 38 minutes                     Cert. 15          (UK – 2025) \n  \nWant to join the Warminster & District Film Society – ask for a leaflet in the Foyer \nhttps://www.facebook.com/WarminsterAndDistrictFilmSociety  \n Adult Tickets: £6 \nWDFS Members: FREE \nPurchase your ticket by clicking on the Ticket Source logo below. \n \n  \nPlease note; A limited number of guest tickets for films are available in advance online or from the box office. If the advance tickets sell out\, more tickets may be available at the door on the day.
URL:https://theath.co.uk/events/dead-of-winter/
CATEGORIES:Film
ATTACH;FMTTYPE=image/jpeg:https://theath.co.uk/wp-content/uploads/2026/01/Dead-of-Winter-web.jpg
END:VEVENT
END:VCALENDAR