BEGIN:VCALENDAR
VERSION:2.0
PRODID:-//Athenæum - ECPv6.15.20//NONSGML v1.0//EN
CALSCALE:GREGORIAN
METHOD:PUBLISH
X-WR-CALNAME:Athenæum
X-ORIGINAL-URL:https://theath.co.uk
X-WR-CALDESC:Events for Athenæum
REFRESH-INTERVAL;VALUE=DURATION:PT1H
X-Robots-Tag:noindex
X-PUBLISHED-TTL:PT1H
BEGIN:VTIMEZONE
TZID:Europe/London
BEGIN:DAYLIGHT
TZOFFSETFROM:+0000
TZOFFSETTO:+0100
TZNAME:BST
DTSTART:20250330T010000
END:DAYLIGHT
BEGIN:STANDARD
TZOFFSETFROM:+0100
TZOFFSETTO:+0000
TZNAME:GMT
DTSTART:20251026T010000
END:STANDARD
BEGIN:DAYLIGHT
TZOFFSETFROM:+0000
TZOFFSETTO:+0100
TZNAME:BST
DTSTART:20260329T010000
END:DAYLIGHT
BEGIN:STANDARD
TZOFFSETFROM:+0100
TZOFFSETTO:+0000
TZNAME:GMT
DTSTART:20261025T010000
END:STANDARD
BEGIN:DAYLIGHT
TZOFFSETFROM:+0000
TZOFFSETTO:+0100
TZNAME:BST
DTSTART:20270328T010000
END:DAYLIGHT
BEGIN:STANDARD
TZOFFSETFROM:+0100
TZOFFSETTO:+0000
TZNAME:GMT
DTSTART:20271031T010000
END:STANDARD
END:VTIMEZONE
BEGIN:VEVENT
DTSTART;TZID=Europe/London:20260722T193000
DTEND;TZID=Europe/London:20260722T211500
DTSTAMP:20260421T213521
CREATED:20260127T093120Z
LAST-MODIFIED:20260127T093120Z
UID:10000942-1784748600-1784754900@theath.co.uk
SUMMARY:The Choral
DESCRIPTION:Written by Alan Bennett. As World War I rages on\, the controversial Dr. Henry Guthrie (Ralph Fiennes) takes over a British choral Society in Ramsden\, Yorkshire that’s lost most of its men to the army. Recruiting teenagers\, the community soon discovers that the best response to the chaos of war is to make beautiful music together. \n  \n1 hour 50 minutes                     Cert. 12A          (UK – 2025)    \n  \nWant to join the Warminster & District Film Society – ask for a leaflet in the Foyer \nhttps://www.facebook.com/WarminsterAndDistrictFilmSociety  \n Adult Tickets: £6 \nWDFS Members: FREE \nPurchase your ticket by clicking on the Ticket Source logo below. \n \n  \nPlease note; A limited number of guest tickets for films are available in advance online or from the box office. If the advance tickets sell out\, more tickets may be available at the door on the day.
URL:https://theath.co.uk/events/the-choral/
CATEGORIES:Film
ATTACH;FMTTYPE=image/jpeg:https://theath.co.uk/wp-content/uploads/2026/01/The-Choral.jpg
END:VEVENT
END:VCALENDAR